BEGIN:VCALENDAR
VERSION:2.0
METHOD:PUBLISH
PRODID:-//hacksw/handcal//NONSGML v1.0//EN
BEGIN:VEVENT
DTSTAMP:20260419T120552Z
DTSTART:20260802T060000Z
DTEND:20260802T120000Z
UID:20260802T060000Z-20260802T120000Z-149@www.motosupportcrew.at
SUMMARY:Aloha Tri Traun
DESCRIPTION:
X-ALT-DESC;FMTTYPE=text/html:<br />\n
URL:https://www.motosupportcrew.at/events/aloha-tri-traun-4/?lang=ko-k
 r
ATTACH:https://www.motosupportcrew.at/events/aloha-tri-traun-4/?lang=k
 o-kr
LOCATION:Aloha Tri Traun Oedter See\, Oedtsee\, Traun
END:VEVENT
END:VCALENDAR
