BEGIN:VCALENDAR
VERSION:2.0
METHOD:PUBLISH
PRODID:-//hacksw/handcal//NONSGML v1.0//EN
BEGIN:VEVENT
DTSTAMP:20260420T150604Z
DTSTART:20260905T043000Z
DTEND:20260906T140000Z
UID:20260905T043000Z-20260906T140000Z-170@www.motosupportcrew.at
SUMMARY:Podersdorf
DESCRIPTION:
X-ALT-DESC;FMTTYPE=text/html:
URL:https://www.motosupportcrew.at/events/podersdorf-2/?lang=de
ATTACH:https://www.motosupportcrew.at/events/podersdorf-2/?lang=de
LOCATION:Podersdorf\, \,
END:VEVENT
END:VCALENDAR
